BEGIN:VCALENDAR
VERSION:2.0
PRODID:-//Hardy, Arkansas - ECPv6.15.20//NONSGML v1.0//EN
CALSCALE:GREGORIAN
METHOD:PUBLISH
X-WR-CALNAME:Hardy, Arkansas
X-ORIGINAL-URL:https://visithardyarkansas.com
X-WR-CALDESC:Events for Hardy, Arkansas
REFRESH-INTERVAL;VALUE=DURATION:PT1H
X-Robots-Tag:noindex
X-PUBLISHED-TTL:PT1H
BEGIN:VTIMEZONE
TZID:UTC
BEGIN:STANDARD
TZOFFSETFROM:+0000
TZOFFSETTO:+0000
TZNAME:UTC
DTSTART:20230101T000000
END:STANDARD
END:VTIMEZONE
BEGIN:VEVENT
DTSTART;TZID=UTC:20240323T090000
DTEND;TZID=UTC:20240324T170000
DTSTAMP:20260425T210357
CREATED:20231205T010742Z
LAST-MODIFIED:20240122T225631Z
UID:10000393-1711184400-1711299600@visithardyarkansas.com
SUMMARY:Main Street Hardy's Gun and Knife Show
DESCRIPTION:
URL:https://visithardyarkansas.com/event/main-street-hardys-gun-and-knife-show/
LOCATION:Hardy Civic Center\, 301 West Main Street\, Hardy\, AR\, 72542\, United States
END:VEVENT
END:VCALENDAR