BEGIN:VCALENDAR
VERSION:2.0
PRODID:-//Hardy, Arkansas - ECPv6.15.20//NONSGML v1.0//EN
CALSCALE:GREGORIAN
METHOD:PUBLISH
X-ORIGINAL-URL:https://visithardyarkansas.com
X-WR-CALDESC:Events for Hardy, Arkansas
REFRESH-INTERVAL;VALUE=DURATION:PT1H
X-Robots-Tag:noindex
X-PUBLISHED-TTL:PT1H
BEGIN:VTIMEZONE
TZID:UTC
BEGIN:STANDARD
TZOFFSETFROM:+0000
TZOFFSETTO:+0000
TZNAME:UTC
DTSTART:20230101T000000
END:STANDARD
END:VTIMEZONE
BEGIN:VEVENT
DTSTART;TZID=UTC:20241005T190000
DTEND;TZID=UTC:20241005T210000
DTSTAMP:20260425T112014
CREATED:20231205T002526Z
LAST-MODIFIED:20240123T030452Z
UID:10000413-1728154800-1728162000@visithardyarkansas.com
SUMMARY:Music on Main Street
DESCRIPTION:Summer Concert Series\nVisit Dr. Thompson park every Saturday for live music in the park!
URL:https://visithardyarkansas.com/event/music-on-main-street/2024-10-05/
LOCATION:Dr. Thompson Park\, Corner of Main St & Johnson Street
END:VEVENT
END:VCALENDAR