BEGIN:VCALENDAR
VERSION:2.0
PRODID:-//Hardy, Arkansas - ECPv6.15.20//NONSGML v1.0//EN
CALSCALE:GREGORIAN
METHOD:PUBLISH
X-ORIGINAL-URL:https://visithardyarkansas.com
X-WR-CALDESC:Events for Hardy, Arkansas
REFRESH-INTERVAL;VALUE=DURATION:PT1H
X-Robots-Tag:noindex
X-PUBLISHED-TTL:PT1H
BEGIN:VTIMEZONE
TZID:America/Chicago
BEGIN:DAYLIGHT
TZOFFSETFROM:-0600
TZOFFSETTO:-0500
TZNAME:CDT
DTSTART:20240310T080000
END:DAYLIGHT
BEGIN:STANDARD
TZOFFSETFROM:-0500
TZOFFSETTO:-0600
TZNAME:CST
DTSTART:20241103T070000
END:STANDARD
BEGIN:DAYLIGHT
TZOFFSETFROM:-0600
TZOFFSETTO:-0500
TZNAME:CDT
DTSTART:20250309T080000
END:DAYLIGHT
BEGIN:STANDARD
TZOFFSETFROM:-0500
TZOFFSETTO:-0600
TZNAME:CST
DTSTART:20251102T070000
END:STANDARD
BEGIN:DAYLIGHT
TZOFFSETFROM:-0600
TZOFFSETTO:-0500
TZNAME:CDT
DTSTART:20260308T080000
END:DAYLIGHT
BEGIN:STANDARD
TZOFFSETFROM:-0500
TZOFFSETTO:-0600
TZNAME:CST
DTSTART:20261101T070000
END:STANDARD
END:VTIMEZONE
BEGIN:VEVENT
DTSTART;TZID=America/Chicago:20251025T160000
DTEND;TZID=America/Chicago:20251025T210000
DTSTAMP:20260421T123711
CREATED:20251022T171936Z
LAST-MODIFIED:20251023T141030Z
UID:10000481-1761408000-1761426000@visithardyarkansas.com
SUMMARY:Hardy Trail of Treats & Costume Contest
DESCRIPTION:4:00-6:00 p.m. : Trick or treat on Main St. and get firetruck tours at the fire house (203 Church St.) \n6:00 p.m.:  Costume Contest for children and adults (203 Church St.). Categories: \n\n5 months-4 years\n5-8 boy\, 5-8 girl\n9-13 boy\, 9-13 girl\n14-17 female\, 14-17 male\n18 & up male\n18 & up female\nBest siblings\nBest family\nBest couple\n\n6:00-9:00 p.m.: Old-fashioned\, city-wide trick or treat. Leave your porch lights on to indicate that you are giving out candy. \nPhone 870-856-3811 for more information
URL:https://visithardyarkansas.com/event/hardy-trick-or-treat-costume-contest/
LOCATION:AR
END:VEVENT
BEGIN:VEVENT
DTSTART;TZID=America/Chicago:20251025T190000
DTEND;TZID=America/Chicago:20251025T210000
DTSTAMP:20260421T123711
CREATED:20250730T222634Z
LAST-MODIFIED:20251014T144303Z
UID:10000472-1761418800-1761426000@visithardyarkansas.com
SUMMARY:Music on Main: Christopher Smith
DESCRIPTION:Saturday\, October 25 at 7:00 p.m. in Dr. Thompson Park\, the Hardy Advertising & Promotion Commission’s Music on Main series concludes for the season with 2024 Spring River’s Got Talent winner\, Christopher Smith. \n \n  \n 
URL:https://visithardyarkansas.com/event/music-on-main-act-christopher-smith/
LOCATION:Dr. Thompson Park\, Corner of Main St & Johnson Street
CATEGORIES:Music,Music on Main
END:VEVENT
END:VCALENDAR