BEGIN:VCALENDAR
VERSION:2.0
PRODID:-//Hardy, Arkansas - ECPv6.15.20//NONSGML v1.0//EN
CALSCALE:GREGORIAN
METHOD:PUBLISH
X-WR-CALNAME:Hardy, Arkansas
X-ORIGINAL-URL:https://visithardyarkansas.com
X-WR-CALDESC:Events for Hardy, Arkansas
REFRESH-INTERVAL;VALUE=DURATION:PT1H
X-Robots-Tag:noindex
X-PUBLISHED-TTL:PT1H
BEGIN:VTIMEZONE
TZID:America/Chicago
BEGIN:DAYLIGHT
TZOFFSETFROM:-0600
TZOFFSETTO:-0500
TZNAME:CDT
DTSTART:20240310T080000
END:DAYLIGHT
BEGIN:STANDARD
TZOFFSETFROM:-0500
TZOFFSETTO:-0600
TZNAME:CST
DTSTART:20241103T070000
END:STANDARD
BEGIN:DAYLIGHT
TZOFFSETFROM:-0600
TZOFFSETTO:-0500
TZNAME:CDT
DTSTART:20250309T080000
END:DAYLIGHT
BEGIN:STANDARD
TZOFFSETFROM:-0500
TZOFFSETTO:-0600
TZNAME:CST
DTSTART:20251102T070000
END:STANDARD
BEGIN:DAYLIGHT
TZOFFSETFROM:-0600
TZOFFSETTO:-0500
TZNAME:CDT
DTSTART:20260308T080000
END:DAYLIGHT
BEGIN:STANDARD
TZOFFSETFROM:-0500
TZOFFSETTO:-0600
TZNAME:CST
DTSTART:20261101T070000
END:STANDARD
END:VTIMEZONE
BEGIN:VEVENT
DTSTART;TZID=America/Chicago:20251122T080000
DTEND;TZID=America/Chicago:20251122T170000
DTSTAMP:20260421T105637
CREATED:20251107T154659Z
LAST-MODIFIED:20251107T154739Z
UID:10000482-1763798400-1763830800@visithardyarkansas.com
SUMMARY:Safe Night Ministries Craft Market and Christmas Breakfast
DESCRIPTION:Safe Night Ministries will hold its 3rd Annual Craft Market and Christmas Breakfast at the Hardy Civic Center from 8:00-5:00 on Saturday November 22. Admission is free to enter and shop.\n\n\n\nThere will be cool stuff and yummy things but\, most importantly\, this event supports safe night’s important work to support survivors of domestic violence in our community.\n\n\n\nHere’s Safe Night’s latest update\, with the INCREDIBLE breakfast menu:\n\n\n\nWe are a couple weeks away from our 3rd Annual Christmas Breakfast & Craft Market! \n\n\n\nBreakfast will consist of: biscuits & gravy\, sausage and bacon\, scrambled eggs\, hashbrown casserole\, muffins\, fruit\, juice\, coffee\, and cocoa! \n\n\n\nWe have around 40 vendors who plan to set up\, jewelry\, baked goods\, crafts and so much more!
URL:https://visithardyarkansas.com/event/safe-night-craft-market/
LOCATION:Hardy Civic Center\, 301 West Main Street\, Hardy\, AR\, 72542\, United States
CATEGORIES:Fair/Market
END:VEVENT
END:VCALENDAR