BEGIN:VCALENDAR
VERSION:2.0
PRODID:-//Hardy, Arkansas - ECPv6.15.20//NONSGML v1.0//EN
CALSCALE:GREGORIAN
METHOD:PUBLISH
X-ORIGINAL-URL:https://visithardyarkansas.com
X-WR-CALDESC:Events for Hardy, Arkansas
REFRESH-INTERVAL;VALUE=DURATION:PT1H
X-Robots-Tag:noindex
X-PUBLISHED-TTL:PT1H
BEGIN:VTIMEZONE
TZID:America/Chicago
BEGIN:DAYLIGHT
TZOFFSETFROM:-0600
TZOFFSETTO:-0500
TZNAME:CDT
DTSTART:20250309T080000
END:DAYLIGHT
BEGIN:STANDARD
TZOFFSETFROM:-0500
TZOFFSETTO:-0600
TZNAME:CST
DTSTART:20251102T070000
END:STANDARD
BEGIN:DAYLIGHT
TZOFFSETFROM:-0600
TZOFFSETTO:-0500
TZNAME:CDT
DTSTART:20260308T080000
END:DAYLIGHT
BEGIN:STANDARD
TZOFFSETFROM:-0500
TZOFFSETTO:-0600
TZNAME:CST
DTSTART:20261101T070000
END:STANDARD
BEGIN:DAYLIGHT
TZOFFSETFROM:-0600
TZOFFSETTO:-0500
TZNAME:CDT
DTSTART:20270314T080000
END:DAYLIGHT
BEGIN:STANDARD
TZOFFSETFROM:-0500
TZOFFSETTO:-0600
TZNAME:CST
DTSTART:20271107T070000
END:STANDARD
END:VTIMEZONE
BEGIN:VEVENT
DTSTART;VALUE=DATE:20260905
DTEND;VALUE=DATE:20260907
DTSTAMP:20260421T143015
CREATED:20260113T152944Z
LAST-MODIFIED:20260113T154507Z
UID:10000495-1788566400-1788739199@visithardyarkansas.com
SUMMARY:Treasures in the Ozarks
DESCRIPTION:Treasures in the Ozarks returns to Hardy Labor Day Weekend for its 11th year! \nFull details to follow!
URL:https://visithardyarkansas.com/event/treasures-in-the-ozarks-2/
LOCATION:Hardy Civic Center\, 301 West Main Street\, Hardy\, AR\, 72542\, United States
CATEGORIES:Arts & Crafts
ATTACH;FMTTYPE=image/jpeg:https://visithardyarkansas.com/wp-content/uploads/2026/01/Treasures-in-the-Ozarks-scaled.jpg
END:VEVENT
BEGIN:VEVENT
DTSTART;VALUE=DATE:20260912
DTEND;VALUE=DATE:20260913
DTSTAMP:20260421T143015
CREATED:20260112T215251Z
LAST-MODIFIED:20260113T130413Z
UID:10000489-1789171200-1789257599@visithardyarkansas.com
SUMMARY:99 Miles of Bad Road Gravel Race
DESCRIPTION:99 Miles of Bad Road is a gravel bicycle race starting and ending in Hardy\, Arkansas. Expect every road surface type\, with roughly 80% being unpaved. Don’t let the elevation profile of the GPX fool you – expect 10\,000 feet of elevation gain. These are relentless rolling hills with an occasional punchy climb or sketchy descent. Everything from mud\, dirt\, gravel\, concrete bridges\, clay\, crushed limestone\, creek rocks\, broken pavement\, and more. This route earns it’s name. All finishers will receive a cool memento\, plus unique custom awards. \nOh\, and we also have a 199 Mile route option…
URL:https://visithardyarkansas.com/event/99-miles-of-bad-road-gravel-race/
LOCATION:Loberg Park\, N Spring St\, Hardy\, AR\, 72542\, United States
CATEGORIES:Outdoors
ATTACH;FMTTYPE=image/png:https://visithardyarkansas.com/wp-content/uploads/2026/01/99-miles-2-riders-and-logo.png
END:VEVENT
BEGIN:VEVENT
DTSTART;TZID=America/Chicago:20260926T090000
DTEND;TZID=America/Chicago:20260926T150000
DTSTAMP:20260421T143015
CREATED:20260113T132451Z
LAST-MODIFIED:20260113T155010Z
UID:10000490-1790413200-1790434800@visithardyarkansas.com
SUMMARY:Hardy Homesteaders Day
DESCRIPTION:Ready for a Saturday trip to 1883 complete with carriage rides and hoecakes with homemade butter? Saturday\, September 26 will be Hardy’s 33rd Annual Homesteaders Day. \nNumerous demonstrators fill Loberg Park to recreate the culture of 1883—the date of Hardy’s founding. Don’t miss the free beans and hoecakes and the beard contest! \n 
URL:https://visithardyarkansas.com/event/hardy-homesteaders-day/
LOCATION:Loberg Park\, N Spring St\, Hardy\, AR\, 72542\, United States
CATEGORIES:Festival,Historical Event,Music
ATTACH;FMTTYPE=image/jpeg:https://visithardyarkansas.com/wp-content/uploads/2026/01/Homesteader-day-Hoe-Cakes-Cooking-SQUARE-for-AD.jpg
ORGANIZER;CN="Hardy Homesteaders Day":MAILTO:HardyHistoryAssociation@gmail.com
END:VEVENT
BEGIN:VEVENT
DTSTART;TZID=America/Chicago:20261023T190000
DTEND;TZID=America/Chicago:20261030T200000
DTSTAMP:20260421T143015
CREATED:20251022T170905Z
LAST-MODIFIED:20260113T150913Z
UID:10000480-1792782000-1793390400@visithardyarkansas.com
SUMMARY:Hardy Main Street Ghost Tours
DESCRIPTION:Four ghost tours will crawl down Main Street this year\, starting at 7:00 p.m. on Thursday\, October 23; Friday\, October 24; Thursday\, October 29; and Friday\, October 30.\n\n\n\nThe tour will showcase local railroad deaths\, murders\, and some of the odder happenings in Hardy’s history during a walk down Main Street’s two blocks.\n\nGather at Dr. Thompson Park\, Main St..\n\n\n$10 per person\, 18+ only.\n\n\nTours limited to 30 people. Reservations required. Reservation form to be published nearer tour dates.\n\n\nTours benefit the Hardy History Association.
URL:https://visithardyarkansas.com/event/hardys-main-street-ghost-tour/
LOCATION:Dr. Thompson Park\, Corner of Main St & Johnson Street
ATTACH;FMTTYPE=image/jpeg:https://visithardyarkansas.com/wp-content/uploads/2025/10/DSC_9829-EDIT-scaled.jpg
END:VEVENT
BEGIN:VEVENT
DTSTART;VALUE=DATE:20261107
DTEND;VALUE=DATE:20261109
DTSTAMP:20260421T143015
CREATED:20260113T140056Z
LAST-MODIFIED:20260113T140056Z
UID:10000491-1794009600-1794182399@visithardyarkansas.com
SUMMARY:Fall Gun & Knife Show
DESCRIPTION:Sponsored by Main Street Hardy. \nSaturday 9:00-5:00\, Sunday 9:00-3:00. \nMore details to come!
URL:https://visithardyarkansas.com/event/fall-gun-knife-show-2/
LOCATION:Hardy Civic Center\, 301 West Main Street\, Hardy\, AR\, 72542\, United States
CATEGORIES:Expo
ATTACH;FMTTYPE=image/png:https://visithardyarkansas.com/wp-content/uploads/2026/01/Fall-gun-and-knife-show-2026.png
END:VEVENT
BEGIN:VEVENT
DTSTART;TZID=America/Chicago:20261212T173000
DTEND;TZID=America/Chicago:20261212T200000
DTSTAMP:20260421T143015
CREATED:20260113T152056Z
LAST-MODIFIED:20260113T162146Z
UID:10000494-1797096600-1797105600@visithardyarkansas.com
SUMMARY:Hardy Christmas Parade & Celebration
DESCRIPTION:It’s Arkansas’s cutest Christmas Parade on Hardy’s Main St. \nThis year\, the parade will end with a big party with games for the kids and visits with Santa at the Civic Center.
URL:https://visithardyarkansas.com/event/peace-on-earth-a-bethlehem-christmas-parade-in-hardy/
LOCATION:AR
CATEGORIES:Festival
ATTACH;FMTTYPE=image/jpeg:https://visithardyarkansas.com/wp-content/uploads/2026/01/Christmas-Parade-2024-classic-car-16-9.jpg
END:VEVENT
END:VCALENDAR