BEGIN:VCALENDAR
VERSION:2.0
PRODID:-//Hardy, Arkansas - ECPv6.15.20//NONSGML v1.0//EN
CALSCALE:GREGORIAN
METHOD:PUBLISH
X-ORIGINAL-URL:https://visithardyarkansas.com
X-WR-CALDESC:Events for Hardy, Arkansas
REFRESH-INTERVAL;VALUE=DURATION:PT1H
X-Robots-Tag:noindex
X-PUBLISHED-TTL:PT1H
BEGIN:VTIMEZONE
TZID:UTC
BEGIN:STANDARD
TZOFFSETFROM:+0000
TZOFFSETTO:+0000
TZNAME:UTC
DTSTART:20230101T000000
END:STANDARD
END:VTIMEZONE
BEGIN:VEVENT
DTSTART;TZID=UTC:20240601T190000
DTEND;TZID=UTC:20240601T210000
DTSTAMP:20260425T153019
CREATED:20231205T002526Z
LAST-MODIFIED:20240123T030452Z
UID:10000394-1717268400-1717275600@visithardyarkansas.com
SUMMARY:Music on Main Street
DESCRIPTION:Summer Concert Series\nVisit Dr. Thompson park every Saturday for live music in the park!
URL:https://visithardyarkansas.com/event/music-on-main-street/2024-06-01/
LOCATION:Dr. Thompson Park\, Corner of Main St & Johnson Street
END:VEVENT
BEGIN:VEVENT
DTSTART;TZID=UTC:20240602T190000
DTEND;TZID=UTC:20240602T210000
DTSTAMP:20260425T153019
CREATED:20240123T030220Z
LAST-MODIFIED:20240123T030429Z
UID:10000442-1717354800-1717362000@visithardyarkansas.com
SUMMARY:Music on Main Street
DESCRIPTION:Summer Concert Series\nVisit Dr. Thompson park every Saturday for live music in the park!
URL:https://visithardyarkansas.com/event/music-on-main-street-2/2024-06-02/
LOCATION:Dr. Thompson Park\, Corner of Main St & Johnson Street
END:VEVENT
BEGIN:VEVENT
DTSTART;TZID=UTC:20240608T190000
DTEND;TZID=UTC:20240608T210000
DTSTAMP:20260425T153019
CREATED:20231205T002526Z
LAST-MODIFIED:20240123T030452Z
UID:10000395-1717873200-1717880400@visithardyarkansas.com
SUMMARY:Music on Main Street
DESCRIPTION:Summer Concert Series\nVisit Dr. Thompson park every Saturday for live music in the park!
URL:https://visithardyarkansas.com/event/music-on-main-street/2024-06-08/
LOCATION:Dr. Thompson Park\, Corner of Main St & Johnson Street
END:VEVENT
BEGIN:VEVENT
DTSTART;TZID=UTC:20240609T190000
DTEND;TZID=UTC:20240609T210000
DTSTAMP:20260425T153019
CREATED:20240123T030220Z
LAST-MODIFIED:20240123T030429Z
UID:10000443-1717959600-1717966800@visithardyarkansas.com
SUMMARY:Music on Main Street
DESCRIPTION:Summer Concert Series\nVisit Dr. Thompson park every Saturday for live music in the park!
URL:https://visithardyarkansas.com/event/music-on-main-street-2/2024-06-09/
LOCATION:Dr. Thompson Park\, Corner of Main St & Johnson Street
END:VEVENT
BEGIN:VEVENT
DTSTART;TZID=UTC:20240615T190000
DTEND;TZID=UTC:20240615T210000
DTSTAMP:20260425T153019
CREATED:20231205T002526Z
LAST-MODIFIED:20240123T030452Z
UID:10000396-1718478000-1718485200@visithardyarkansas.com
SUMMARY:Music on Main Street
DESCRIPTION:Summer Concert Series\nVisit Dr. Thompson park every Saturday for live music in the park!
URL:https://visithardyarkansas.com/event/music-on-main-street/2024-06-15/
LOCATION:Dr. Thompson Park\, Corner of Main St & Johnson Street
END:VEVENT
BEGIN:VEVENT
DTSTART;TZID=UTC:20240616T190000
DTEND;TZID=UTC:20240616T210000
DTSTAMP:20260425T153019
CREATED:20240123T030220Z
LAST-MODIFIED:20240123T030429Z
UID:10000444-1718564400-1718571600@visithardyarkansas.com
SUMMARY:Music on Main Street
DESCRIPTION:Summer Concert Series\nVisit Dr. Thompson park every Saturday for live music in the park!
URL:https://visithardyarkansas.com/event/music-on-main-street-2/2024-06-16/
LOCATION:Dr. Thompson Park\, Corner of Main St & Johnson Street
END:VEVENT
BEGIN:VEVENT
DTSTART;TZID=UTC:20240622T190000
DTEND;TZID=UTC:20240622T210000
DTSTAMP:20260425T153019
CREATED:20231205T002526Z
LAST-MODIFIED:20240123T030452Z
UID:10000397-1719082800-1719090000@visithardyarkansas.com
SUMMARY:Music on Main Street
DESCRIPTION:Summer Concert Series\nVisit Dr. Thompson park every Saturday for live music in the park!
URL:https://visithardyarkansas.com/event/music-on-main-street/2024-06-22/
LOCATION:Dr. Thompson Park\, Corner of Main St & Johnson Street
END:VEVENT
BEGIN:VEVENT
DTSTART;TZID=UTC:20240623T190000
DTEND;TZID=UTC:20240623T210000
DTSTAMP:20260425T153019
CREATED:20240123T030220Z
LAST-MODIFIED:20240123T030429Z
UID:10000445-1719169200-1719176400@visithardyarkansas.com
SUMMARY:Music on Main Street
DESCRIPTION:Summer Concert Series\nVisit Dr. Thompson park every Saturday for live music in the park!
URL:https://visithardyarkansas.com/event/music-on-main-street-2/2024-06-23/
LOCATION:Dr. Thompson Park\, Corner of Main St & Johnson Street
END:VEVENT
BEGIN:VEVENT
DTSTART;TZID=UTC:20240629T190000
DTEND;TZID=UTC:20240629T210000
DTSTAMP:20260425T153019
CREATED:20231205T002526Z
LAST-MODIFIED:20240123T030452Z
UID:10000398-1719687600-1719694800@visithardyarkansas.com
SUMMARY:Music on Main Street
DESCRIPTION:Summer Concert Series\nVisit Dr. Thompson park every Saturday for live music in the park!
URL:https://visithardyarkansas.com/event/music-on-main-street/2024-06-29/
LOCATION:Dr. Thompson Park\, Corner of Main St & Johnson Street
END:VEVENT
BEGIN:VEVENT
DTSTART;TZID=UTC:20240630T190000
DTEND;TZID=UTC:20240630T210000
DTSTAMP:20260425T153019
CREATED:20240123T030220Z
LAST-MODIFIED:20240123T030429Z
UID:10000446-1719774000-1719781200@visithardyarkansas.com
SUMMARY:Music on Main Street
DESCRIPTION:Summer Concert Series\nVisit Dr. Thompson park every Saturday for live music in the park!
URL:https://visithardyarkansas.com/event/music-on-main-street-2/2024-06-30/
LOCATION:Dr. Thompson Park\, Corner of Main St & Johnson Street
END:VEVENT
END:VCALENDAR