BEGIN:VCALENDAR
VERSION:2.0
PRODID:-//Hardy, Arkansas - ECPv6.15.20//NONSGML v1.0//EN
CALSCALE:GREGORIAN
METHOD:PUBLISH
X-WR-CALNAME:Hardy, Arkansas
X-ORIGINAL-URL:https://visithardyarkansas.com
X-WR-CALDESC:Events for Hardy, Arkansas
REFRESH-INTERVAL;VALUE=DURATION:PT1H
X-Robots-Tag:noindex
X-PUBLISHED-TTL:PT1H
BEGIN:VTIMEZONE
TZID:UTC
BEGIN:STANDARD
TZOFFSETFROM:+0000
TZOFFSETTO:+0000
TZNAME:UTC
DTSTART:20230101T000000
END:STANDARD
END:VTIMEZONE
BEGIN:VEVENT
DTSTART;TZID=UTC:20240706T190000
DTEND;TZID=UTC:20240706T210000
DTSTAMP:20260425T141123
CREATED:20231205T002526Z
LAST-MODIFIED:20240123T030452Z
UID:10000399-1720292400-1720299600@visithardyarkansas.com
SUMMARY:Music on Main Street
DESCRIPTION:Summer Concert Series\nVisit Dr. Thompson park every Saturday for live music in the park!
URL:https://visithardyarkansas.com/event/music-on-main-street/2024-07-06/
LOCATION:Dr. Thompson Park\, Corner of Main St & Johnson Street
END:VEVENT
BEGIN:VEVENT
DTSTART;TZID=UTC:20240707T190000
DTEND;TZID=UTC:20240707T210000
DTSTAMP:20260425T141123
CREATED:20240123T030220Z
LAST-MODIFIED:20240123T030429Z
UID:10000447-1720378800-1720386000@visithardyarkansas.com
SUMMARY:Music on Main Street
DESCRIPTION:Summer Concert Series\nVisit Dr. Thompson park every Saturday for live music in the park!
URL:https://visithardyarkansas.com/event/music-on-main-street-2/2024-07-07/
LOCATION:Dr. Thompson Park\, Corner of Main St & Johnson Street
END:VEVENT
BEGIN:VEVENT
DTSTART;TZID=UTC:20240713T190000
DTEND;TZID=UTC:20240713T210000
DTSTAMP:20260425T141123
CREATED:20231205T002526Z
LAST-MODIFIED:20240123T030452Z
UID:10000400-1720897200-1720904400@visithardyarkansas.com
SUMMARY:Music on Main Street
DESCRIPTION:Summer Concert Series\nVisit Dr. Thompson park every Saturday for live music in the park!
URL:https://visithardyarkansas.com/event/music-on-main-street/2024-07-13/
LOCATION:Dr. Thompson Park\, Corner of Main St & Johnson Street
END:VEVENT
BEGIN:VEVENT
DTSTART;TZID=UTC:20240714T190000
DTEND;TZID=UTC:20240714T210000
DTSTAMP:20260425T141123
CREATED:20240123T030220Z
LAST-MODIFIED:20240123T030429Z
UID:10000448-1720983600-1720990800@visithardyarkansas.com
SUMMARY:Music on Main Street
DESCRIPTION:Summer Concert Series\nVisit Dr. Thompson park every Saturday for live music in the park!
URL:https://visithardyarkansas.com/event/music-on-main-street-2/2024-07-14/
LOCATION:Dr. Thompson Park\, Corner of Main St & Johnson Street
END:VEVENT
BEGIN:VEVENT
DTSTART;TZID=UTC:20240720T190000
DTEND;TZID=UTC:20240720T210000
DTSTAMP:20260425T141123
CREATED:20231205T002526Z
LAST-MODIFIED:20240123T030452Z
UID:10000401-1721502000-1721509200@visithardyarkansas.com
SUMMARY:Music on Main Street
DESCRIPTION:Summer Concert Series\nVisit Dr. Thompson park every Saturday for live music in the park!
URL:https://visithardyarkansas.com/event/music-on-main-street/2024-07-20/
LOCATION:Dr. Thompson Park\, Corner of Main St & Johnson Street
END:VEVENT
BEGIN:VEVENT
DTSTART;TZID=UTC:20240721T190000
DTEND;TZID=UTC:20240721T210000
DTSTAMP:20260425T141123
CREATED:20240123T030220Z
LAST-MODIFIED:20240123T030429Z
UID:10000449-1721588400-1721595600@visithardyarkansas.com
SUMMARY:Music on Main Street
DESCRIPTION:Summer Concert Series\nVisit Dr. Thompson park every Saturday for live music in the park!
URL:https://visithardyarkansas.com/event/music-on-main-street-2/2024-07-21/
LOCATION:Dr. Thompson Park\, Corner of Main St & Johnson Street
END:VEVENT
BEGIN:VEVENT
DTSTART;TZID=UTC:20240727T190000
DTEND;TZID=UTC:20240727T210000
DTSTAMP:20260425T141123
CREATED:20231205T002526Z
LAST-MODIFIED:20240123T030452Z
UID:10000402-1722106800-1722114000@visithardyarkansas.com
SUMMARY:Music on Main Street
DESCRIPTION:Summer Concert Series\nVisit Dr. Thompson park every Saturday for live music in the park!
URL:https://visithardyarkansas.com/event/music-on-main-street/2024-07-27/
LOCATION:Dr. Thompson Park\, Corner of Main St & Johnson Street
END:VEVENT
BEGIN:VEVENT
DTSTART;TZID=UTC:20240728T190000
DTEND;TZID=UTC:20240728T210000
DTSTAMP:20260425T141123
CREATED:20240123T030220Z
LAST-MODIFIED:20240123T030429Z
UID:10000450-1722193200-1722200400@visithardyarkansas.com
SUMMARY:Music on Main Street
DESCRIPTION:Summer Concert Series\nVisit Dr. Thompson park every Saturday for live music in the park!
URL:https://visithardyarkansas.com/event/music-on-main-street-2/2024-07-28/
LOCATION:Dr. Thompson Park\, Corner of Main St & Johnson Street
END:VEVENT
END:VCALENDAR