BEGIN:VCALENDAR
VERSION:2.0
PRODID:-//Hardy, Arkansas - ECPv6.15.20//NONSGML v1.0//EN
CALSCALE:GREGORIAN
METHOD:PUBLISH
X-ORIGINAL-URL:https://visithardyarkansas.com
X-WR-CALDESC:Events for Hardy, Arkansas
REFRESH-INTERVAL;VALUE=DURATION:PT1H
X-Robots-Tag:noindex
X-PUBLISHED-TTL:PT1H
BEGIN:VTIMEZONE
TZID:America/Chicago
BEGIN:DAYLIGHT
TZOFFSETFROM:-0600
TZOFFSETTO:-0500
TZNAME:CDT
DTSTART:20240310T080000
END:DAYLIGHT
BEGIN:STANDARD
TZOFFSETFROM:-0500
TZOFFSETTO:-0600
TZNAME:CST
DTSTART:20241103T070000
END:STANDARD
BEGIN:DAYLIGHT
TZOFFSETFROM:-0600
TZOFFSETTO:-0500
TZNAME:CDT
DTSTART:20250309T080000
END:DAYLIGHT
BEGIN:STANDARD
TZOFFSETFROM:-0500
TZOFFSETTO:-0600
TZNAME:CST
DTSTART:20251102T070000
END:STANDARD
BEGIN:DAYLIGHT
TZOFFSETFROM:-0600
TZOFFSETTO:-0500
TZNAME:CDT
DTSTART:20260308T080000
END:DAYLIGHT
BEGIN:STANDARD
TZOFFSETFROM:-0500
TZOFFSETTO:-0600
TZNAME:CST
DTSTART:20261101T070000
END:STANDARD
END:VTIMEZONE
BEGIN:VEVENT
DTSTART;TZID=America/Chicago:20251004T173000
DTEND;TZID=America/Chicago:20251004T203000
DTSTAMP:20260421T105751
CREATED:20250831T144227Z
LAST-MODIFIED:20250831T144227Z
UID:10000477-1759599000-1759609800@visithardyarkansas.com
SUMMARY:Safe Night Ministries Denim & Diamonds
DESCRIPTION:Dinner dance and silent auction to benefit Safe Night Ministries work to aid those affected by domestic violence. \nDoors open at 5:30\, dinner will be served at 6:00 and the silent auction ends at 8:00.
URL:https://visithardyarkansas.com/event/safe-night-ministries-denim-diamonds/
LOCATION:AR
CATEGORIES:Benefit
END:VEVENT
BEGIN:VEVENT
DTSTART;TZID=America/Chicago:20251004T190000
DTEND;TZID=America/Chicago:20251004T210000
DTSTAMP:20260421T105751
CREATED:20250730T222054Z
LAST-MODIFIED:20250730T222054Z
UID:10000471-1759604400-1759611600@visithardyarkansas.com
SUMMARY:Music on Main: Erin Walters
DESCRIPTION:Saturday\, October 4 at 7:00 p.m.\, Erin Walters takes the stage for a free show in Dr. Thompson Park as part of the Hardy Advertising & Promotion Commission’s Music on Main series. \n \n  \n  \n 
URL:https://visithardyarkansas.com/event/music-on-main-erin-walters/
LOCATION:Dr. Thompson Park\, Corner of Main St & Johnson Street
CATEGORIES:Music,Music on Main
END:VEVENT
BEGIN:VEVENT
DTSTART;TZID=America/Chicago:20251011T190000
DTEND;TZID=America/Chicago:20251011T210000
DTSTAMP:20260421T105751
CREATED:20250730T223320Z
LAST-MODIFIED:20250730T223320Z
UID:10000473-1760209200-1760216400@visithardyarkansas.com
SUMMARY:Music on Main: Missy Harris & Sweet Harmony
DESCRIPTION:Saturday\, October 11 at 7:00 p.m.\, Missy Harris and Sweet Harmony take the stage for a free show in Dr. Thompson Park as part of the Hardy Advertising & Promotion Commission’s Music on Main series. \n  \n \n 
URL:https://visithardyarkansas.com/event/music-on-main-missy-harris-sweet-harmony/
LOCATION:Dr. Thompson Park\, Corner of Main St & Johnson Street
CATEGORIES:Music,Music on Main
END:VEVENT
BEGIN:VEVENT
DTSTART;TZID=America/Chicago:20251018T080000
DTEND;TZID=America/Chicago:20251018T170000
DTSTAMP:20260421T105751
CREATED:20251018T143207Z
LAST-MODIFIED:20251018T143207Z
UID:10000479-1760774400-1760806800@visithardyarkansas.com
SUMMARY:Hardy Trail of Treats and Costume Contest
DESCRIPTION:Saturday\, October 25: Trick-or-Treat Main Street from 4:00-6:00 and get a firetruck tour. Next\, enter the 10-category child and adult costume contest at the fire station. Finally\, hit the town for old-fashioned trick or treating from 6:00-9:00. At 7:00 p.m.\, Christopher Smith plays a free show in Dr. Thompson Park as our last Music on Main performer of the season. Flyer with full details below.
URL:https://visithardyarkansas.com/event/hardy-trail-of-treats-and-costume-contest/
LOCATION:AR
END:VEVENT
BEGIN:VEVENT
DTSTART;TZID=America/Chicago:20251018T090000
DTEND;TZID=America/Chicago:20251018T150000
DTSTAMP:20260421T105751
CREATED:20250820T193220Z
LAST-MODIFIED:20250820T193220Z
UID:10000476-1760778000-1760799600@visithardyarkansas.com
SUMMARY:Fall Car Show
DESCRIPTION:Sponsored by the Spring River Car Club. Details in flyer. \n \n 
URL:https://visithardyarkansas.com/event/fall-car-show/
LOCATION:Loberg Park\, N Spring St\, Hardy\, AR\, 72542\, United States
CATEGORIES:Expo,Festival
END:VEVENT
BEGIN:VEVENT
DTSTART;TZID=America/Chicago:20251018T190000
DTEND;TZID=America/Chicago:20251018T210000
DTSTAMP:20260421T105751
CREATED:20250730T212754Z
LAST-MODIFIED:20251018T215904Z
UID:10000469-1760814000-1760821200@visithardyarkansas.com
SUMMARY:Music on Main: Cosmic Criminals CANCELLED
DESCRIPTION:CANCELLED DUE TO WEATHER. \nSaturday\, October 18 at 7:00 p.m.\, Cosmic Criminals takes the stage for a free show in Dr. Thompson Park as part of the Hardy Advertising & Promotion Commission’s Music on Main series. \n \n  \n 
URL:https://visithardyarkansas.com/event/music-on-main-cosmic-criminals/
LOCATION:Dr. Thompson Park\, Corner of Main St & Johnson Street
CATEGORIES:Music,Music on Main
END:VEVENT
BEGIN:VEVENT
DTSTART;TZID=America/Chicago:20251025T160000
DTEND;TZID=America/Chicago:20251025T210000
DTSTAMP:20260421T105751
CREATED:20251022T171936Z
LAST-MODIFIED:20251023T141030Z
UID:10000481-1761408000-1761426000@visithardyarkansas.com
SUMMARY:Hardy Trail of Treats & Costume Contest
DESCRIPTION:4:00-6:00 p.m. : Trick or treat on Main St. and get firetruck tours at the fire house (203 Church St.) \n6:00 p.m.:  Costume Contest for children and adults (203 Church St.). Categories: \n\n5 months-4 years\n5-8 boy\, 5-8 girl\n9-13 boy\, 9-13 girl\n14-17 female\, 14-17 male\n18 & up male\n18 & up female\nBest siblings\nBest family\nBest couple\n\n6:00-9:00 p.m.: Old-fashioned\, city-wide trick or treat. Leave your porch lights on to indicate that you are giving out candy. \nPhone 870-856-3811 for more information
URL:https://visithardyarkansas.com/event/hardy-trick-or-treat-costume-contest/
LOCATION:AR
END:VEVENT
BEGIN:VEVENT
DTSTART;TZID=America/Chicago:20251025T190000
DTEND;TZID=America/Chicago:20251025T210000
DTSTAMP:20260421T105751
CREATED:20250730T222634Z
LAST-MODIFIED:20251014T144303Z
UID:10000472-1761418800-1761426000@visithardyarkansas.com
SUMMARY:Music on Main: Christopher Smith
DESCRIPTION:Saturday\, October 25 at 7:00 p.m. in Dr. Thompson Park\, the Hardy Advertising & Promotion Commission’s Music on Main series concludes for the season with 2024 Spring River’s Got Talent winner\, Christopher Smith. \n \n  \n 
URL:https://visithardyarkansas.com/event/music-on-main-act-christopher-smith/
LOCATION:Dr. Thompson Park\, Corner of Main St & Johnson Street
CATEGORIES:Music,Music on Main
END:VEVENT
END:VCALENDAR